{
 "currentVersion": 11.4,
 "serviceDescription": "base image forSJ19 1928 Roosevelt Road Traffic Calming\nCarrie published on 10/28/19\nJess S and Kendra R \n\n",
 "name": "Projects/BayAreaProjects_DBO_SJ191928_BaseImage",
 "description": "base image forSJ19 1928 Roosevelt Road Traffic Calming\nCarrie published on 10/28/19\nJess S and Kendra R \n\n",
 "extent": {
  "xmin": -126.22600514438685,
  "ymin": 3.4547604897363176,
  "xmax": -122.58103969991075,
  "ymax": 4.419376162857274,
  "spatialReference": {
   "wkid": 4326,
   "latestWkid": 4326
  }
 },
 "initialExtent": {
  "xmin": -126.22600514438685,
  "ymin": 3.4547604897363176,
  "xmax": -122.58103969991075,
  "ymax": 4.419376162857274,
  "spatialReference": {
   "wkid": 4326,
   "latestWkid": 4326
  }
 },
 "fullExtent": {
  "xmin": -126.22600514438685,
  "ymin": 3.4547604897363176,
  "xmax": -122.58103969991075,
  "ymax": 4.419376162857274,
  "spatialReference": {
   "wkid": 4326,
   "latestWkid": 4326
  }
 },
 "sortableFields": "",
 "bandCount": 3,
 "pixelType": "U8",
 "minValues": [
  0,
  0,
  0
 ],
 "maxValues": [
  255,
  255,
  255
 ],
 "meanValues": [
  232.59561073019404,
  234.59468297108705,
  235.93292183958525
 ],
 "stdvValues": [
  51.99754418569798,
  47.404123928878256,
  45.66283136334863
 ],
 "hasMultidimensions": false,
 "pixelSizeX": 4.082165353876245E-4,
 "pixelSizeY": 4.082165353876244E-4,
 "meanPixelSize": 45.44245685274469,
 "datasetFormat": "SDR",
 "uncompressedSize": 63297681,
 "blockWidth": 128,
 "blockHeight": 128,
 "compressionType": "LZ77",
 "bandNames": [
  "Band_1",
  "Band_2",
  "Band_3"
 ],
 "allowCopy": true,
 "allowAnalysis": true,
 "itemAccess": false,
 "inspectionCapabilities": "",
 "minPixelSize": 0,
 "maxPixelSize": 0,
 "copyrightText": "Fehr & Peers, 2019",
 "serviceDataType": "esriImageServiceDataTypeRGB",
 "serviceSourceType": "esriImageServiceSourceTypeDataset",
 "objectIdField": "",
 "fields": [],
 "capabilities": "Image,Metadata,Mensuration",
 "defaultMosaicMethod": "Center",
 "allowedMosaicMethods": "",
 "sortField": "",
 "sortValue": null,
 "sortAscending": true,
 "mosaicOperator": "First",
 "defaultCompressionQuality": 75,
 "defaultResamplingMethod": "Bilinear",
 "maxImageHeight": 4100,
 "maxImageWidth": 15000,
 "allowRasterFunction": true,
 "rasterFunctionInfos": [
  {
   "name": "None",
   "description": "",
   "help": ""
  }
 ],
 "rasterTypeInfos": [
  {
   "name": "Raster Dataset",
   "description": "Supports all ArcGIS Raster Datasets",
   "help": ""
  }
 ],
 "mensurationCapabilities": "Basic",
 "hasHistograms": true,
 "hasColormap": false,
 "hasRasterAttributeTable": false,
 "minScale": 0,
 "maxScale": 0,
 "exportTilesAllowed": false,
 "supportsStatistics": false,
 "supportsAdvancedQueries": false,
 "editFieldsInfo": null,
 "ownershipBasedAccessControlForRasters": null,
 "allowComputeTiePoints": false,
 "useStandardizedQueries": true,
 "advancedQueryCapabilities": {
  "useStandardizedQueries": true,
  "supportsStatistics": false,
  "supportsOrderBy": false,
  "supportsDistinct": false,
  "supportsPagination": false
 },
 "spatialReference": {
  "wkid": 4326,
  "latestWkid": 4326
 }
}
